BEGIN:VCALENDAR
VERSION:2.0
PRODID:-//Journey of Faith Church - ECPv6.15.20//NONSGML v1.0//EN
CALSCALE:GREGORIAN
METHOD:PUBLISH
X-ORIGINAL-URL:https://journeyoffaithaz.com
X-WR-CALDESC:Events for Journey of Faith Church
REFRESH-INTERVAL;VALUE=DURATION:PT1H
X-Robots-Tag:noindex
X-PUBLISHED-TTL:PT1H
BEGIN:VTIMEZONE
TZID:America/Phoenix
BEGIN:STANDARD
TZOFFSETFROM:-0700
TZOFFSETTO:-0700
TZNAME:MST
DTSTART:20230101T000000
END:STANDARD
END:VTIMEZONE
BEGIN:VEVENT
DTSTART;VALUE=DATE:20240809
DTEND;VALUE=DATE:20240831
DTSTAMP:20260425T032027
CREATED:20240714T231047Z
LAST-MODIFIED:20240714T231047Z
UID:17940-1723161600-1725062399@journeyoffaithaz.com
SUMMARY:Life Groups Open Enrollment
DESCRIPTION:Beginning 8/9 \nJOF Life Groups is a place where we gather to share our life in Christ (1 John 5:11-12). It’s a place where we get to know the members of JOF in the comforts of our homes and encourage one another as we journey with Christ together. \nOpen enrollment will start in the month of August during which everyone will have a chance to visit different life groups. Since our life groups meet bi-weekly\, you will have a chance to visit two different life groups (or one life group for both sessions) before committing. The group that you attend on the third session (first weekend in September) will be the life group that you will be committing to\, Sept. 2024 – May 2025. \nDetails of the life groups\, their meeting times\, and locations will be coming soon!
URL:https://journeyoffaithaz.com/event/life-groups-open-enrollment/
ATTACH;FMTTYPE=:
END:VEVENT
BEGIN:VEVENT
DTSTART;TZID=America/Phoenix:20240811T000000
DTEND;TZID=America/Phoenix:20240908T000000
DTSTAMP:20260425T032027
CREATED:20240811T025917Z
LAST-MODIFIED:20240811T025917Z
UID:17961-1723334400-1725753600@journeyoffaithaz.com
SUMMARY:Philippines Support
DESCRIPTION:Sun. 9/8 – Last Day for Donations \nPastor Josh is doing well with his mission in the Philippines. He has a key coworker\, JC\, who is getting Bible training in Manila. The cost is $2500 for the first year for tuition\, room and board. The JOF Deacon Board has unanimously agreed to set up a fund to raise the money. If you would like to help\, please donate via Zelle (Journey of Faith Church – 480-205-9354) or check\, and put on the memo\, “For Philippine Education.” Any funds above the $2500 will go directly to Pastor Josh’s ministry. The deadline is September 8.
URL:https://journeyoffaithaz.com/event/philippines-support/
ATTACH;FMTTYPE=image/jpeg:https://journeyoffaithaz.com/wp-content/uploads/2024/08/unnamed-9.jpg
END:VEVENT
BEGIN:VEVENT
DTSTART;VALUE=DATE:20240825
DTEND;VALUE=DATE:20240826
DTSTAMP:20260425T032027
CREATED:20240811T030146Z
LAST-MODIFIED:20240811T030146Z
UID:17967-1724544000-1724630399@journeyoffaithaz.com
SUMMARY:New JOF T-shirts
DESCRIPTION:Sun. 8/25 – Last Day to Order \nNew JOF T-shirts will be provided free of cost for everyone and will be available in late October\, at the Fall Retreat for those attending. Please fill out the T-shirt Order Form for you and/or members of your family by Sun. 8/25. \n*Youth Group members should request “Adult/Men’s” shirts since the youth-size shirts will be sized for Journey Kids.
URL:https://journeyoffaithaz.com/event/new-jof-t-shirts/
ATTACH;FMTTYPE=image/jpeg:https://journeyoffaithaz.com/wp-content/uploads/2024/08/New-JOF-T-Shirt.jpg
END:VEVENT
BEGIN:VEVENT
DTSTART;TZID=America/Phoenix:20240825T120000
DTEND;TZID=America/Phoenix:20240825T140000
DTSTAMP:20260425T032027
CREATED:20240802T205608Z
LAST-MODIFIED:20240802T205608Z
UID:17957-1724587200-1724594400@journeyoffaithaz.com
SUMMARY:Membership Class
DESCRIPTION:Sun. 8/25\, 12:15 PM – 2:00 PM \nPastor Derek will be offering a membership class on Sun. 8/25 in Room 202. If you are interested in becoming a member of our church\, please contact Pastor Derek. We encourage you to attend.
URL:https://journeyoffaithaz.com/event/membership-class-3/
ATTACH;FMTTYPE=image/png:https://journeyoffaithaz.com/wp-content/uploads/2024/08/unnamed-14.png
END:VEVENT
END:VCALENDAR